BEGIN:VCALENDAR
VERSION:2.0
PRODID:-//fondocultura.org - ECPv6.15.15//NONSGML v1.0//EN
CALSCALE:GREGORIAN
METHOD:PUBLISH
X-WR-CALNAME:fondocultura.org
X-ORIGINAL-URL:https://fondocultura.org
X-WR-CALDESC:Eventos para fondocultura.org
REFRESH-INTERVAL;VALUE=DURATION:PT1H
X-Robots-Tag:noindex
X-PUBLISHED-TTL:PT1H
BEGIN:VTIMEZONE
TZID:America/Bogota
BEGIN:STANDARD
TZOFFSETFROM:-0500
TZOFFSETTO:-0500
TZNAME:-05
DTSTART:20240101T000000
END:STANDARD
END:VTIMEZONE
BEGIN:VEVENT
DTSTART;VALUE=DATE:20250308
DTEND;VALUE=DATE:20250310
DTSTAMP:20260424T225805
CREATED:20250303T110222Z
LAST-MODIFIED:20250303T162636Z
UID:17457-1741392000-1741564799@fondocultura.org
SUMMARY:JENESANO: 6° Festival Equino de Propietarios 2025 y Cabalgata de Amazonas
DESCRIPTION:« Todos los Eventos\n 				\n				\n				\n				\n					Este evento ha pasado. \n				\n				\n				\n				\n					\n	JENESANO: 6° Festival Equino de Propietarios 2025 y Cabalgata de Amazonas				\n				\n				\n				\n					\n		\n			8 marzo\n\n		\n	\n	  -  \n\n	9 marzo\n\n	\n				\n				\n				\n				\n					\n	\n				\n				\n				\n				\n																														\n				\n				\n				\n									  8 y 9 de marzo 2025Jenesano\, Boyacá\, Colombia   								\n				\n				\n				\n							\n			\n						\n		\n						\n				\n				\n				\n									La emoción equina y la cabalgata de amazonas se toman a Jenesano. 								\n				\n				\n				\n							\n			\n						\n		\n						\n				\n				\n				\n									Organiza: Alcaldía Municipal de Jenesano   								\n				\n				\n				\n							\n			\n						\n		\n						\n				\n				\n				\n									Más información: facebook.com/AlcaldiaJenesanoBoyaca/posts facebook.com/AlcaldiaJenesanoBoyaca  								\n				\n				\n				\n							\n			\n						\n		\n						\n				\n				\n				\n									   Ir a la Agenda Cultural Boyacá 								\n				\n				\n				\n							\n			\n						\n		\n						\n				\n				\n				\n					\n				\n				\n	\n	Municipio de Jenesano\, provincia de Márquez\n	\n	\n\n\n	Jenesano\,\n\n	Boyacá\n\n\n	Colombia\n\n\n\n\n	+ Google Map \n\n\n	\n					\n						\n	 \n\n\n	\n	 \n\n\n\n	\n\n\n\n		\n	\n				\n				\n				\n				\n					\n	\n		\n\n	\n	Añadir al calendario	\n		\n	\n\n		\n			\n									\n	Google Calendar\n\n									\n	iCalendar\n\n									\n	Outlook 365\n\n									\n	Outlook Live\n\n							\n		\n\n		\n	\n\n				\n				\n				\n				\n					\n	\n\n	Categorías: 	\n		AGENDA CULTURAL BOYACÁ\, FERIAS Y EXPOSICIONES\, FESTIVALES
URL:https://fondocultura.org/evento/jenesano-6-festival-equino-de-propietarios-2025-y-cabalgata-de-amazonas/
LOCATION:Municipio de Jenesano\, provincia de Márquez\, Jenesano\, Boyacá\, Colombia
CATEGORIES:AGENDA CULTURAL BOYACÁ,FERIAS Y EXPOSICIONES,FESTIVALES
ATTACH;FMTTYPE=image/jpeg:https://fondocultura.org/wp-content/uploads/2025/03/jenesano-festival-equino-de-propietarios-2025-1.jpg
END:VEVENT
END:VCALENDAR